BEGIN:VCALENDAR
VERSION:2.0
PRODID:-//wp-events-plugin.com//7.2.3.1//EN
BEGIN:VEVENT
UID:16@ucfamilyservices.org
DTSTART:20260910T180000Z
DTEND:20260910T235900Z
DTSTAMP:20260414T172933Z
URL:https://ucfamilyservices.org/event/2026-timeless-hope-gala-65th-annive
 rsary-sapphire-celebration/
SUMMARY:2026 Timeless Hope Gala 65th Anniversary Sapphire Celebration
DESCRIPTION:UCFS-CALC's Timeless Hope Gala&nbsp\;returns on Thursday\, Sept
 ember 10\, 2026 for our&nbsp\;65th Anniversary Sapphire Celebration!\n\nTh
 is can't miss charity gala returns to Shenandoah Country Club&nbsp\;with e
 xceptional food\, drinks\, live music\, auctions\, raffles\, and more!\n\n
 As the charity's largest fundraising event of the year\, all proceeds supp
 ort UCFS-CALC's programs and services that work to provide guidance and su
 pport to underserved individuals and families\, supporting them in their j
 ourney to achieve self-sufficiency.\n\nTickets on sale soon!\n\nSecure you
 r sponsorship today!\n\n\n\n\n\n
ATTACH;FMTTYPE=image/jpeg:https://ucfamilyservices.org/wp-content/uploads/
 2026/04/Untitled-design-23-scaled.png
LOCATION:Shenandoah Country Club\, 5600 Walnut Lake Rd\, West Bloomfield\, 
 MI\, 48323\, United States
X-APPLE-STRUCTURED-LOCATION;VALUE=URI;X-ADDRESS=5600 Walnut Lake Rd\, West 
 Bloomfield\, MI\, 48323\, United States;X-APPLE-RADIUS=100;X-TITLE=Shenand
 oah Country Club:geo:0,0
END:VEVENT
END:VCALENDAR